BEGIN:VCALENDAR
VERSION:2.0
PRODID:-//Tukios.com/
BEGIN:VEVENT
UID:0eef1571-97d7-4097-92e6-c3c0c71b59cd@www.hudsonsfh.com
DTSTAMP:20260421T205417Z
DTSTART:20260424T000000Z
DTEND:20260424T010000Z
SUMMARY:Visitation
DESCRIPTION:
URL:https://www.hudsonsfh.com/obituaries/pamela-reiter
LOCATION: 680 Mt Hope Dr  Lander WY 82520
GEO:42.8241607;-108.7155677
END:VEVENT
END:VCALENDAR