BEGIN:VCALENDAR
VERSION:2.0
PRODID:-//Tukios.com/
BEGIN:VEVENT
UID:2ea813fc-100b-45bf-807a-4ad65b3fe10e@www.hudsonsfh.com
DTSTAMP:20260421T204924Z
DTSTART:20260424T160000Z
DTEND:20260424T170000Z
SUMMARY:Funeral Service
DESCRIPTION:
URL:https://www.hudsonsfh.com/obituaries/pamela-reiter
LOCATION:Bethel Lutheran Church 626 Shoshone St  Lander WY 82520
GEO:42.8276321;-108.7402813
END:VEVENT
END:VCALENDAR