BEGIN:VCALENDAR
VERSION:2.0
PRODID:-//Tukios.com/
BEGIN:VEVENT
UID:2956ab05-ed32-4744-9744-537feba34d51@www.hudsonsfh.com
DTSTAMP:20260425T023127Z
DTSTART:20260428T160000Z
DTEND:20260428T170000Z
SUMMARY:Funeral Service
DESCRIPTION:
URL:https://www.hudsonsfh.com/obituaries/anthony-hopper
LOCATION: 490 Ethete Rd  Ethete WY 82520
GEO:43.0262861;-108.7801232
END:VEVENT
END:VCALENDAR