BEGIN:VCALENDAR
VERSION:2.0
PRODID:-//Tukios.com/
BEGIN:VEVENT
UID:6687e747-cd39-4733-9484-26ddf6214a3f@www.hudsonsfh.com
DTSTAMP:20260425T023619Z
DTSTART:20260428T023000Z
DTEND:20260428T033000Z
SUMMARY:All-Night Wake
DESCRIPTION:
URL:https://www.hudsonsfh.com/obituaries/anthony-hopper
LOCATION:76 Ray Lake Rd 76 Ray Lake Rd  Lander WY 82520
GEO:42.9463936;-108.8061532
END:VEVENT
END:VCALENDAR