BEGIN:VCALENDAR
VERSION:2.0
PRODID:-//Tukios.com/
BEGIN:VEVENT
UID:c4b31042-6d1d-4d50-b32e-579db649f014@www.hudsonsfh.com
DTSTAMP:20260425T023620Z
DTSTART:20260428T010000Z
DTEND:20260428T023000Z
SUMMARY:Prayer Service
DESCRIPTION:
URL:https://www.hudsonsfh.com/obituaries/anthony-hopper
LOCATION:Blue Sky Hall 490 Ethete Rd  Ethete WY 82520
GEO:43.0262861;-108.7801232
END:VEVENT
END:VCALENDAR